BEGIN:VCALENDAR
VERSION:2.0
PRODID:-//Story Medicine - ECPv6.15.20//NONSGML v1.0//EN
CALSCALE:GREGORIAN
METHOD:PUBLISH
X-ORIGINAL-URL:https://storymedicineworldwide.com
X-WR-CALDESC:Events for Story Medicine
REFRESH-INTERVAL;VALUE=DURATION:PT1H
X-Robots-Tag:noindex
X-PUBLISHED-TTL:PT1H
BEGIN:VTIMEZONE
TZID:America/Toronto
BEGIN:DAYLIGHT
TZOFFSETFROM:-0500
TZOFFSETTO:-0400
TZNAME:EDT
DTSTART:20240310T070000
END:DAYLIGHT
BEGIN:STANDARD
TZOFFSETFROM:-0400
TZOFFSETTO:-0500
TZNAME:EST
DTSTART:20241103T060000
END:STANDARD
BEGIN:DAYLIGHT
TZOFFSETFROM:-0500
TZOFFSETTO:-0400
TZNAME:EDT
DTSTART:20250309T070000
END:DAYLIGHT
BEGIN:STANDARD
TZOFFSETFROM:-0400
TZOFFSETTO:-0500
TZNAME:EST
DTSTART:20251102T060000
END:STANDARD
BEGIN:DAYLIGHT
TZOFFSETFROM:-0500
TZOFFSETTO:-0400
TZNAME:EDT
DTSTART:20260308T070000
END:DAYLIGHT
BEGIN:STANDARD
TZOFFSETFROM:-0400
TZOFFSETTO:-0500
TZNAME:EST
DTSTART:20261101T060000
END:STANDARD
END:VTIMEZONE
BEGIN:VEVENT
DTSTART;TZID=America/Toronto:20250719T140000
DTEND;TZID=America/Toronto:20250719T170000
DTSTAMP:20260424T233614
CREATED:20250709T123746Z
LAST-MODIFIED:20250709T123746Z
UID:1470-1752933600-1752944400@storymedicineworldwide.com
SUMMARY:Story As Legacy with Meta Commerse
DESCRIPTION:Leicester Library presents:\nSTORY AS LEGACY\nWith META COMMERCE \nSaturday\, July 19\n2-5 pm\nDid you know that the secret power of your life is living in your story? This writing workshop will name and explore some of the basic gifts of story. We will shine light on the love\, lessons\, and value for our lives and those of our loved ones\, all contained in memory\, waiting to be tapped. \nJoin Meta Commerse\, author of the memoir Womaning\, for this in-depth conversation deeply rooted in Appalachia. \nThis class is FREE\, but space is limited\, and registration is required. Participants should bring a pen and notebook or paper. \nTo register\, scan the QR code\, or visit tinyurl.com/story0719 \n \nMeta Commerce is a former professor of History and English\, award-winning author\, and elder healer. She is a word medicine woman in the Southern Appalachian tradition inherited from her grandmother. Her texts include five books\, essays\, newspaper articles\, one stage play\, with more art and vocalizing to come. A graduate of Goddard College in Vermont\, Meta is founder and CEO of Story Medicine Worldwide\, where she developed healing/learning experiences addressing issues of race\, age\, and gender.
URL:https://storymedicineworldwide.com/healing-services-event/story-as-legacy-with-meta-commerse/
LOCATION:Leicester Library\, 1561 Alexander Rd\, Leicester\, North Carolina\, 28748
END:VEVENT
END:VCALENDAR