BEGIN:VCALENDAR
VERSION:2.0
PRODID:-//Story Medicine - ECPv6.15.20//NONSGML v1.0//EN
CALSCALE:GREGORIAN
METHOD:PUBLISH
X-WR-CALNAME:Story Medicine
X-ORIGINAL-URL:https://storymedicineworldwide.com
X-WR-CALDESC:Events for Story Medicine
REFRESH-INTERVAL;VALUE=DURATION:PT1H
X-Robots-Tag:noindex
X-PUBLISHED-TTL:PT1H
BEGIN:VTIMEZONE
TZID:UTC
BEGIN:STANDARD
TZOFFSETFROM:+0000
TZOFFSETTO:+0000
TZNAME:UTC
DTSTART:20230101T000000
END:STANDARD
END:VTIMEZONE
BEGIN:VEVENT
DTSTART;TZID=UTC:20240928T120000
DTEND;TZID=UTC:20240928T180000
DTSTAMP:20260425T124957
CREATED:20240701T194657Z
LAST-MODIFIED:20240826T155541Z
UID:1068-1727524800-1727546400@storymedicineworldwide.com
SUMMARY:Story Medicine for Racial Healing: Parent Edition
DESCRIPTION:Saturday\, September 28\, 2024\, from 12:00 to 6:00 pm ET\, cost $75 \nThe racial healing workshop is intended to practice the Story Medicine modality\, where participants investigate the historical and personal impact of systemic racism\, with a focus on raising race-conscious white children. This workshop provides practical tools for white parents of young children and engagement in a story-centered\, indigenous practice of word medicine in white space where participants will heal without burdening or traumatizing people of color. Attendance is limited; enrollment closes September 21\, 2024 \nInstructor – Heidi Wood\, LCSW\, Certified Story Medicine Teacher \nThe class will be on Zoom – the Zoom link  will be provided before the start time. Questions? Email us at heidi.storymedicineworldwide@gmail.com See more about our programs and offerings at www.storymedicineworldwide.comAttendance is limited; enrollment closes September 21\, 2024 \n  \nRegister
URL:https://storymedicineworldwide.com/healing-services-event/story-medicine-for-racial-healing-parent-edition/
LOCATION:North Carolina
ATTACH;FMTTYPE=image/webp:https://storymedicineworldwide.com/wp-content/uploads/2024/07/cropped-Logo.webp
END:VEVENT
BEGIN:VEVENT
DTSTART;TZID=UTC:20240701T080000
DTEND;TZID=UTC:20240701T170000
DTSTAMP:20260425T124957
CREATED:20240628T001713Z
LAST-MODIFIED:20240702T002834Z
UID:984-1719820800-1719853200@storymedicineworldwide.com
SUMMARY:Class: Story Medicine for Racial Healing
DESCRIPTION:Join us as we celebrate Womaning\, a Memoir\, with live music\, good food\, great company and fine performances. Meta will read from her book\, and special guests will speak. This will be an opportunity to party AND remember the importance of our stories in the world. This is a ticketed event.
URL:https://storymedicineworldwide.com/healing-services-event/class-story-medicine-for-racial-healing/
LOCATION:North Carolina
CATEGORIES:Events
ATTACH;FMTTYPE=image/webp:https://storymedicineworldwide.com/wp-content/uploads/2024/06/RRS-1st-2020-Retreat-e1596076395766.webp
END:VEVENT
BEGIN:VEVENT
DTSTART;TZID=UTC:20240630T080000
DTEND;TZID=UTC:20240630T170000
DTSTAMP:20260425T124957
CREATED:20240628T001641Z
LAST-MODIFIED:20240702T002714Z
UID:982-1719734400-1719766800@storymedicineworldwide.com
SUMMARY:Special Workshop: Listening with Compassion
DESCRIPTION:Join us as we celebrate Womaning\, a Memoir\, with live music\, good food\, great company and fine performances. Meta will read from her book\, and special guests will speak. This will be an opportunity to party AND remember the importance of our stories in the world. This is a ticketed event. \nDETAILS\n\nDate: March 31\, 2023 \nTime: 7:00 pm\nCost: $15.00
URL:https://storymedicineworldwide.com/healing-services-event/special-workshop-listening-with-compassion/
LOCATION:North Carolina
CATEGORIES:Events
ATTACH;FMTTYPE=image/webp:https://storymedicineworldwide.com/wp-content/uploads/2024/06/Screenshot-2022-11-18-at-6.12.50-PM-600x337-1.webp
END:VEVENT
BEGIN:VEVENT
DTSTART;TZID=UTC:20240627T080000
DTEND;TZID=UTC:20240627T170000
DTSTAMP:20260425T124957
CREATED:20240628T001552Z
LAST-MODIFIED:20240702T002841Z
UID:974-1719475200-1719507600@storymedicineworldwide.com
SUMMARY:Book Party for Womaning\, a Memoir!
DESCRIPTION:Join us as we celebrate Womaning\, a Memoir\, with live music\, good food\, great company and fine performances. Meta will read from her book\, and special guests will speak. This will be an opportunity to party AND remember the importance of our stories in the world. This is a ticketed event.
URL:https://storymedicineworldwide.com/healing-services-event/book-party-for-womaning-a-memoir/
LOCATION:North Carolina
CATEGORIES:Events
END:VEVENT
END:VCALENDAR