BEGIN:VCALENDAR
VERSION:2.0
PRODID:-//Story Medicine - ECPv6.15.20//NONSGML v1.0//EN
CALSCALE:GREGORIAN
METHOD:PUBLISH
X-WR-CALNAME:Story Medicine
X-ORIGINAL-URL:https://storymedicineworldwide.com
X-WR-CALDESC:Events for Story Medicine
REFRESH-INTERVAL;VALUE=DURATION:PT1H
X-Robots-Tag:noindex
X-PUBLISHED-TTL:PT1H
BEGIN:VTIMEZONE
TZID:America/Toronto
BEGIN:DAYLIGHT
TZOFFSETFROM:-0500
TZOFFSETTO:-0400
TZNAME:EDT
DTSTART:20240310T070000
END:DAYLIGHT
BEGIN:STANDARD
TZOFFSETFROM:-0400
TZOFFSETTO:-0500
TZNAME:EST
DTSTART:20241103T060000
END:STANDARD
BEGIN:DAYLIGHT
TZOFFSETFROM:-0500
TZOFFSETTO:-0400
TZNAME:EDT
DTSTART:20250309T070000
END:DAYLIGHT
BEGIN:STANDARD
TZOFFSETFROM:-0400
TZOFFSETTO:-0500
TZNAME:EST
DTSTART:20251102T060000
END:STANDARD
BEGIN:DAYLIGHT
TZOFFSETFROM:-0500
TZOFFSETTO:-0400
TZNAME:EDT
DTSTART:20260308T070000
END:DAYLIGHT
BEGIN:STANDARD
TZOFFSETFROM:-0400
TZOFFSETTO:-0500
TZNAME:EST
DTSTART:20261101T060000
END:STANDARD
END:VTIMEZONE
BEGIN:VEVENT
DTSTART;TZID=America/Toronto:20251002T180000
DTEND;TZID=America/Toronto:20251002T200000
DTSTAMP:20260425T062514
CREATED:20250921T172534Z
LAST-MODIFIED:20250921T173052Z
UID:1494-1759428000-1759435200@storymedicineworldwide.com
SUMMARY:Local Author Panel
DESCRIPTION:Leicester Library\nLeicester Meeting Room\nThursday\, October 2\, 2025\n6:00pm–8:00pm\nJoin us for an evening celebrating  our local writing community with three very different local authors.  You’ll hear excerpts from Meta Commerse’s memoir Womaning\,  Mountain Xpress editor Thomas Calder’s novel A Wind Under the Door\, and poetry from Nancy Dillingham’s collection After Helene. \n\n\nEach author will share selections from their books as well as some of their story of writing and putting their work out into the world. \nThis local author panel is the first of a series of panels that celebrate and explore the inspirations\, experiences\, and finished works of writers across Buncombe County. \nJoin us on November 6 and December 4 for more local author readings at the Leicester Library. \nThis event is free and open to the public. Light refreshments will be provided. \n\nLeicester Library\n1561 Alexander Road\nLeicester\, NC 28748\n (828) 250-6480  \n\n\nContact Info\n Email:   anna.booraem@buncombenc.gov \n(828) 250-6495
URL:https://storymedicineworldwide.com/healing-services-event/local-author-panel/
LOCATION:Leicester Library\, 1561 Alexander Rd\, Leicester\, North Carolina\, 28748
ATTACH;FMTTYPE=image/jpeg:https://storymedicineworldwide.com/wp-content/uploads/2025/09/Local-Author-Panel-Crop-.jpg
END:VEVENT
END:VCALENDAR